BEGIN:VCALENDAR
VERSION:2.0
PRODID:-//Altdorf in der Pfalz - ECPv6.15.20//NONSGML v1.0//EN
CALSCALE:GREGORIAN
METHOD:PUBLISH
X-ORIGINAL-URL:https://www.altdorf-pfalz.de
X-WR-CALDESC:Veranstaltungen für Altdorf in der Pfalz
REFRESH-INTERVAL;VALUE=DURATION:PT1H
X-Robots-Tag:noindex
X-PUBLISHED-TTL:PT1H
BEGIN:VTIMEZONE
TZID:Europe/Berlin
BEGIN:DAYLIGHT
TZOFFSETFROM:+0100
TZOFFSETTO:+0200
TZNAME:CEST
DTSTART:20250330T010000
END:DAYLIGHT
BEGIN:STANDARD
TZOFFSETFROM:+0200
TZOFFSETTO:+0100
TZNAME:CET
DTSTART:20251026T010000
END:STANDARD
BEGIN:DAYLIGHT
TZOFFSETFROM:+0100
TZOFFSETTO:+0200
TZNAME:CEST
DTSTART:20260329T010000
END:DAYLIGHT
BEGIN:STANDARD
TZOFFSETFROM:+0200
TZOFFSETTO:+0100
TZNAME:CET
DTSTART:20261025T010000
END:STANDARD
BEGIN:DAYLIGHT
TZOFFSETFROM:+0100
TZOFFSETTO:+0200
TZNAME:CEST
DTSTART:20270328T010000
END:DAYLIGHT
BEGIN:STANDARD
TZOFFSETFROM:+0200
TZOFFSETTO:+0100
TZNAME:CET
DTSTART:20271031T010000
END:STANDARD
END:VTIMEZONE
BEGIN:VEVENT
DTSTART;VALUE=DATE:20260801
DTEND;VALUE=DATE:20260809
DTSTAMP:20260424T130248
CREATED:20260125T201102Z
LAST-MODIFIED:20260125T201102Z
UID:11322-1785542400-1786233599@www.altdorf-pfalz.de
SUMMARY:Probewoche in der Schweiz
DESCRIPTION:
URL:https://www.altdorf-pfalz.de/event/probewoche-in-der-schweiz-2/
END:VEVENT
BEGIN:VEVENT
DTSTART;TZID=Europe/Berlin:20260806T193000
DTEND;TZID=Europe/Berlin:20260806T193000
DTSTAMP:20260424T130248
CREATED:20260125T104125Z
LAST-MODIFIED:20260420T180522Z
UID:11111-1786044600-1786044600@www.altdorf-pfalz.de
SUMMARY:Rollenspieltreff der Bücherei
DESCRIPTION:Einsteigerfreundliches Pen-&-Paper-Rollenspiel in offenen One-Shot-Runden.
URL:https://www.altdorf-pfalz.de/event/rollenspieltreff-7/
LOCATION:Gäuhalle
END:VEVENT
BEGIN:VEVENT
DTSTART;TZID=Europe/Berlin:20260809T000000
DTEND;TZID=Europe/Berlin:20260809T000000
DTSTAMP:20260424T130248
CREATED:20260125T104125Z
LAST-MODIFIED:20260125T194951Z
UID:11112-1786233600-1786233600@www.altdorf-pfalz.de
SUMMARY:"1250 Jahre Böbingen"\, Biergarten mit Wandern
DESCRIPTION:
URL:https://www.altdorf-pfalz.de/event/1250-jahre-boebingen-biergarten-mit-wandern-2/
END:VEVENT
BEGIN:VEVENT
DTSTART;TZID=Europe/Berlin:20260812T100000
DTEND;TZID=Europe/Berlin:20260812T100000
DTSTAMP:20260424T130248
CREATED:20260125T104139Z
LAST-MODIFIED:20260125T195005Z
UID:11113-1786528800-1786528800@www.altdorf-pfalz.de
SUMMARY:Mittwochswanderung (Aktiv)
DESCRIPTION:
URL:https://www.altdorf-pfalz.de/event/mittwochswanderung-aktiv-7/
END:VEVENT
BEGIN:VEVENT
DTSTART;TZID=Europe/Berlin:20260813T190000
DTEND;TZID=Europe/Berlin:20260813T190000
DTSTAMP:20260424T130248
CREATED:20260125T104139Z
LAST-MODIFIED:20260125T195006Z
UID:11114-1786647600-1786647600@www.altdorf-pfalz.de
SUMMARY:Kochkurs Italienisch
DESCRIPTION:
URL:https://www.altdorf-pfalz.de/event/kochkurs-italienisch-2/
LOCATION:Gäuhalle
END:VEVENT
BEGIN:VEVENT
DTSTART;TZID=Europe/Berlin:20260814T183000
DTEND;TZID=Europe/Berlin:20260814T183000
DTSTAMP:20260424T130248
CREATED:20260125T104140Z
LAST-MODIFIED:20260125T195006Z
UID:11115-1786732200-1786732200@www.altdorf-pfalz.de
SUMMARY:Stammtisch
DESCRIPTION:
URL:https://www.altdorf-pfalz.de/event/stammtisch-4/
LOCATION:Weinstube Rewehäsl
END:VEVENT
BEGIN:VEVENT
DTSTART;TZID=Europe/Berlin:20260817T200000
DTEND;TZID=Europe/Berlin:20260817T200000
DTSTAMP:20260424T130248
CREATED:20260125T104140Z
LAST-MODIFIED:20260125T195006Z
UID:11116-1786996800-1786996800@www.altdorf-pfalz.de
SUMMARY:Singstundenauftakt
DESCRIPTION:
URL:https://www.altdorf-pfalz.de/event/singstundenauftakt/
LOCATION:Gäuhalle
END:VEVENT
BEGIN:VEVENT
DTSTART;TZID=Europe/Berlin:20260820T193000
DTEND;TZID=Europe/Berlin:20260820T193000
DTSTAMP:20260424T130248
CREATED:20260125T104140Z
LAST-MODIFIED:20260125T195006Z
UID:11117-1787254200-1787254200@www.altdorf-pfalz.de
SUMMARY:Brettspieltreff
DESCRIPTION:
URL:https://www.altdorf-pfalz.de/event/brettspieltreff-7/
LOCATION:Gäuhalle
END:VEVENT
BEGIN:VEVENT
DTSTART;TZID=Europe/Berlin:20260823T000000
DTEND;TZID=Europe/Berlin:20260823T000000
DTSTAMP:20260424T130248
CREATED:20260125T104154Z
LAST-MODIFIED:20260125T195021Z
UID:11118-1787443200-1787443200@www.altdorf-pfalz.de
SUMMARY:Wanderung
DESCRIPTION:
URL:https://www.altdorf-pfalz.de/event/wanderung-8/
LOCATION:ab Sportheim
END:VEVENT
BEGIN:VEVENT
DTSTART;TZID=Europe/Berlin:20260826T110000
DTEND;TZID=Europe/Berlin:20260826T110000
DTSTAMP:20260424T130248
CREATED:20260125T104154Z
LAST-MODIFIED:20260125T195021Z
UID:11119-1787742000-1787742000@www.altdorf-pfalz.de
SUMMARY:Mittwochswanderungen (Senioren)
DESCRIPTION:
URL:https://www.altdorf-pfalz.de/event/mittwochswanderungen-senioren-9/
LOCATION:ab Sportheim
END:VEVENT
BEGIN:VEVENT
DTSTART;TZID=Europe/Berlin:20260829T140000
DTEND;TZID=Europe/Berlin:20260829T140000
DTSTAMP:20260424T130248
CREATED:20260125T104154Z
LAST-MODIFIED:20260125T195021Z
UID:11120-1788012000-1788012000@www.altdorf-pfalz.de
SUMMARY:Landfrauencafé
DESCRIPTION:
URL:https://www.altdorf-pfalz.de/event/landfrauencafe-2/
LOCATION:Gäuhalle
END:VEVENT
END:VCALENDAR