BEGIN:VCALENDAR
VERSION:2.0
PRODID:-//Altdorf in der Pfalz - ECPv6.15.20//NONSGML v1.0//EN
CALSCALE:GREGORIAN
METHOD:PUBLISH
X-WR-CALNAME:Altdorf in der Pfalz
X-ORIGINAL-URL:https://www.altdorf-pfalz.de
X-WR-CALDESC:Veranstaltungen für Altdorf in der Pfalz
REFRESH-INTERVAL;VALUE=DURATION:PT1H
X-Robots-Tag:noindex
X-PUBLISHED-TTL:PT1H
BEGIN:VTIMEZONE
TZID:Europe/Berlin
BEGIN:DAYLIGHT
TZOFFSETFROM:+0100
TZOFFSETTO:+0200
TZNAME:CEST
DTSTART:20250330T010000
END:DAYLIGHT
BEGIN:STANDARD
TZOFFSETFROM:+0200
TZOFFSETTO:+0100
TZNAME:CET
DTSTART:20251026T010000
END:STANDARD
BEGIN:DAYLIGHT
TZOFFSETFROM:+0100
TZOFFSETTO:+0200
TZNAME:CEST
DTSTART:20260329T010000
END:DAYLIGHT
BEGIN:STANDARD
TZOFFSETFROM:+0200
TZOFFSETTO:+0100
TZNAME:CET
DTSTART:20261025T010000
END:STANDARD
BEGIN:DAYLIGHT
TZOFFSETFROM:+0100
TZOFFSETTO:+0200
TZNAME:CEST
DTSTART:20270328T010000
END:DAYLIGHT
BEGIN:STANDARD
TZOFFSETFROM:+0200
TZOFFSETTO:+0100
TZNAME:CET
DTSTART:20271031T010000
END:STANDARD
END:VTIMEZONE
BEGIN:VEVENT
DTSTART;TZID=Europe/Berlin:20260610T100000
DTEND;TZID=Europe/Berlin:20260610T100000
DTSTAMP:20260422T155508
CREATED:20260125T104039Z
LAST-MODIFIED:20260125T194851Z
UID:11093-1781085600-1781085600@www.altdorf-pfalz.de
SUMMARY:Mittwochswanderung (Aktiv)
DESCRIPTION:
URL:https://www.altdorf-pfalz.de/event/mittwochswanderung-aktiv-5/
END:VEVENT
BEGIN:VEVENT
DTSTART;TZID=Europe/Berlin:20260612T183000
DTEND;TZID=Europe/Berlin:20260612T183000
DTSTAMP:20260422T155508
CREATED:20260125T104039Z
LAST-MODIFIED:20260125T194905Z
UID:11094-1781289000-1781289000@www.altdorf-pfalz.de
SUMMARY:Stammtisch
DESCRIPTION:
URL:https://www.altdorf-pfalz.de/event/stammtisch-2/
LOCATION:Weinstube Rewehäsl
END:VEVENT
BEGIN:VEVENT
DTSTART;TZID=Europe/Berlin:20260613T180000
DTEND;TZID=Europe/Berlin:20260613T180000
DTSTAMP:20260422T155508
CREATED:20260125T104039Z
LAST-MODIFIED:20260125T194906Z
UID:11095-1781373600-1781373600@www.altdorf-pfalz.de
SUMMARY:Intern
DESCRIPTION:
URL:https://www.altdorf-pfalz.de/event/intern-2/
LOCATION:Gäuhalle
END:VEVENT
BEGIN:VEVENT
DTSTART;TZID=Europe/Berlin:20260615T000000
DTEND;TZID=Europe/Berlin:20260615T000000
DTSTAMP:20260422T155508
CREATED:20260125T104040Z
LAST-MODIFIED:20260125T194906Z
UID:11096-1781481600-1781481600@www.altdorf-pfalz.de
SUMMARY:Start Vorlesesommer und Lesesommer
DESCRIPTION:
URL:https://www.altdorf-pfalz.de/event/start-vorlesesommer-und-lesesommer-2/
END:VEVENT
BEGIN:VEVENT
DTSTART;TZID=Europe/Berlin:20260618T193000
DTEND;TZID=Europe/Berlin:20260618T193000
DTSTAMP:20260422T155508
CREATED:20260125T104040Z
LAST-MODIFIED:20260125T194906Z
UID:11097-1781811000-1781811000@www.altdorf-pfalz.de
SUMMARY:Brettspieltreff
DESCRIPTION:
URL:https://www.altdorf-pfalz.de/event/brettspieltreff-5/
LOCATION:Gäuhalle
END:VEVENT
BEGIN:VEVENT
DTSTART;TZID=Europe/Berlin:20260621T000000
DTEND;TZID=Europe/Berlin:20260621T000000
DTSTAMP:20260422T155508
CREATED:20260125T104054Z
LAST-MODIFIED:20260125T194921Z
UID:11098-1782000000-1782000000@www.altdorf-pfalz.de
SUMMARY:Wanderung
DESCRIPTION:
URL:https://www.altdorf-pfalz.de/event/wanderung-6/
LOCATION:ab Sportheim
END:VEVENT
BEGIN:VEVENT
DTSTART;TZID=Europe/Berlin:20260622T193000
DTEND;TZID=Europe/Berlin:20260622T193000
DTSTAMP:20260422T155508
CREATED:20260125T104054Z
LAST-MODIFIED:20260125T194921Z
UID:11099-1782156600-1782156600@www.altdorf-pfalz.de
SUMMARY:Singstundenabschluss
DESCRIPTION:
URL:https://www.altdorf-pfalz.de/event/singstundenabschluss/
LOCATION:Gäuhalle
END:VEVENT
BEGIN:VEVENT
DTSTART;TZID=Europe/Berlin:20260623T200000
DTEND;TZID=Europe/Berlin:20260623T200000
DTSTAMP:20260422T155508
CREATED:20260125T104055Z
LAST-MODIFIED:20260125T194921Z
UID:11100-1782244800-1782244800@www.altdorf-pfalz.de
SUMMARY:Kerwevorbesprechung
DESCRIPTION:
URL:https://www.altdorf-pfalz.de/event/kerwevorbesprechung/
LOCATION:Gäuhalle
END:VEVENT
BEGIN:VEVENT
DTSTART;TZID=Europe/Berlin:20260624T110000
DTEND;TZID=Europe/Berlin:20260624T110000
DTSTAMP:20260422T155508
CREATED:20260125T104055Z
LAST-MODIFIED:20260125T194921Z
UID:11101-1782298800-1782298800@www.altdorf-pfalz.de
SUMMARY:Mittwochswanderungen (Senioren)
DESCRIPTION:
URL:https://www.altdorf-pfalz.de/event/mittwochswanderungen-senioren-7/
LOCATION:ab Sportheim
END:VEVENT
BEGIN:VEVENT
DTSTART;TZID=Europe/Berlin:20260627T140000
DTEND;TZID=Europe/Berlin:20260627T140000
DTSTAMP:20260422T155508
CREATED:20260125T104055Z
LAST-MODIFIED:20260125T194921Z
UID:11102-1782568800-1782568800@www.altdorf-pfalz.de
SUMMARY:Landfrauencafé
DESCRIPTION:
URL:https://www.altdorf-pfalz.de/event/landfrauencafe/
LOCATION:Gäuhalle
END:VEVENT
END:VCALENDAR