BEGIN:VCALENDAR
VERSION:2.0
PRODID:-//Altdorf in der Pfalz - ECPv6.15.20//NONSGML v1.0//EN
CALSCALE:GREGORIAN
METHOD:PUBLISH
X-WR-CALNAME:Altdorf in der Pfalz
X-ORIGINAL-URL:https://www.altdorf-pfalz.de
X-WR-CALDESC:Veranstaltungen für Altdorf in der Pfalz
REFRESH-INTERVAL;VALUE=DURATION:PT1H
X-Robots-Tag:noindex
X-PUBLISHED-TTL:PT1H
BEGIN:VTIMEZONE
TZID:Europe/Berlin
BEGIN:DAYLIGHT
TZOFFSETFROM:+0100
TZOFFSETTO:+0200
TZNAME:CEST
DTSTART:20250330T010000
END:DAYLIGHT
BEGIN:STANDARD
TZOFFSETFROM:+0200
TZOFFSETTO:+0100
TZNAME:CET
DTSTART:20251026T010000
END:STANDARD
BEGIN:DAYLIGHT
TZOFFSETFROM:+0100
TZOFFSETTO:+0200
TZNAME:CEST
DTSTART:20260329T010000
END:DAYLIGHT
BEGIN:STANDARD
TZOFFSETFROM:+0200
TZOFFSETTO:+0100
TZNAME:CET
DTSTART:20261025T010000
END:STANDARD
BEGIN:DAYLIGHT
TZOFFSETFROM:+0100
TZOFFSETTO:+0200
TZNAME:CEST
DTSTART:20270328T010000
END:DAYLIGHT
BEGIN:STANDARD
TZOFFSETFROM:+0200
TZOFFSETTO:+0100
TZNAME:CET
DTSTART:20271031T010000
END:STANDARD
END:VTIMEZONE
BEGIN:VEVENT
DTSTART;TZID=Europe/Berlin:20260322T080000
DTEND;TZID=Europe/Berlin:20260322T080000
DTSTAMP:20260420T101209
CREATED:20260125T103909Z
LAST-MODIFIED:20260125T194720Z
UID:11064-1774166400-1774166400@www.altdorf-pfalz.de
SUMMARY:Landtagswahl
DESCRIPTION:
URL:https://www.altdorf-pfalz.de/event/landtagswahl-2/
LOCATION:Gäuhalle
END:VEVENT
BEGIN:VEVENT
DTSTART;TZID=Europe/Berlin:20260322T100000
DTEND;TZID=Europe/Berlin:20260322T180000
DTSTAMP:20260420T101209
CREATED:20260125T103909Z
LAST-MODIFIED:20260314T140150Z
UID:11065-1774173600-1774202400@www.altdorf-pfalz.de
SUMMARY:Mandelmeile
DESCRIPTION:
URL:https://www.altdorf-pfalz.de/event/mandelmeile/
LOCATION:Gemeindehaus
CATEGORIES:Kirchbauverein
END:VEVENT
BEGIN:VEVENT
DTSTART;TZID=Europe/Berlin:20260325T110000
DTEND;TZID=Europe/Berlin:20260325T110000
DTSTAMP:20260420T101209
CREATED:20260125T103909Z
LAST-MODIFIED:20260125T194721Z
UID:11066-1774436400-1774436400@www.altdorf-pfalz.de
SUMMARY:Mittwochswanderungen (Senioren)
DESCRIPTION:
URL:https://www.altdorf-pfalz.de/event/mittwochswanderungen-senioren-4/
LOCATION:ab Sportheim
END:VEVENT
BEGIN:VEVENT
DTSTART;TZID=Europe/Berlin:20260326T193000
DTEND;TZID=Europe/Berlin:20260326T193000
DTSTAMP:20260420T101209
CREATED:20260125T103910Z
LAST-MODIFIED:20260211T104434Z
UID:11067-1774553400-1774553400@www.altdorf-pfalz.de
SUMMARY:Abendlese
DESCRIPTION:
URL:https://www.altdorf-pfalz.de/event/abendlese/
LOCATION:Gäuhalle
CATEGORIES:Bücherei
END:VEVENT
BEGIN:VEVENT
DTSTART;TZID=Europe/Berlin:20260327T000000
DTEND;TZID=Europe/Berlin:20260327T000000
DTSTAMP:20260420T101209
CREATED:20260125T103910Z
LAST-MODIFIED:20260125T194735Z
UID:11068-1774569600-1774569600@www.altdorf-pfalz.de
SUMMARY:Mitgliederversammlung
DESCRIPTION:
URL:https://www.altdorf-pfalz.de/event/mitgliederversammlung-2/
LOCATION:Sportheim
END:VEVENT
END:VCALENDAR