BEGIN:VCALENDAR
VERSION:2.0
PRODID:-//Altdorf in der Pfalz - ECPv6.15.20//NONSGML v1.0//EN
CALSCALE:GREGORIAN
METHOD:PUBLISH
X-WR-CALNAME:Altdorf in der Pfalz
X-ORIGINAL-URL:https://www.altdorf-pfalz.de
X-WR-CALDESC:Veranstaltungen für Altdorf in der Pfalz
REFRESH-INTERVAL;VALUE=DURATION:PT1H
X-Robots-Tag:noindex
X-PUBLISHED-TTL:PT1H
BEGIN:VTIMEZONE
TZID:Europe/Berlin
BEGIN:DAYLIGHT
TZOFFSETFROM:+0100
TZOFFSETTO:+0200
TZNAME:CEST
DTSTART:20250330T010000
END:DAYLIGHT
BEGIN:STANDARD
TZOFFSETFROM:+0200
TZOFFSETTO:+0100
TZNAME:CET
DTSTART:20251026T010000
END:STANDARD
BEGIN:DAYLIGHT
TZOFFSETFROM:+0100
TZOFFSETTO:+0200
TZNAME:CEST
DTSTART:20260329T010000
END:DAYLIGHT
BEGIN:STANDARD
TZOFFSETFROM:+0200
TZOFFSETTO:+0100
TZNAME:CET
DTSTART:20261025T010000
END:STANDARD
BEGIN:DAYLIGHT
TZOFFSETFROM:+0100
TZOFFSETTO:+0200
TZNAME:CEST
DTSTART:20270328T010000
END:DAYLIGHT
BEGIN:STANDARD
TZOFFSETFROM:+0200
TZOFFSETTO:+0100
TZNAME:CET
DTSTART:20271031T010000
END:STANDARD
END:VTIMEZONE
BEGIN:VEVENT
DTSTART;TZID=Europe/Berlin:20261010T190000
DTEND;TZID=Europe/Berlin:20261010T190000
DTSTAMP:20260422T155917
CREATED:20260125T104240Z
LAST-MODIFIED:20260125T195121Z
UID:11135-1791658800-1791658800@www.altdorf-pfalz.de
SUMMARY:Kerwe Helferessen
DESCRIPTION:
URL:https://www.altdorf-pfalz.de/event/kerwe-helferessen-2/
LOCATION:Gäuhalle
END:VEVENT
BEGIN:VEVENT
DTSTART;TZID=Europe/Berlin:20261014T100000
DTEND;TZID=Europe/Berlin:20261014T100000
DTSTAMP:20260422T155917
CREATED:20260125T104240Z
LAST-MODIFIED:20260125T195121Z
UID:11136-1791972000-1791972000@www.altdorf-pfalz.de
SUMMARY:Mittwochswanderung (Aktiv)
DESCRIPTION:
URL:https://www.altdorf-pfalz.de/event/mittwochswanderung-aktiv-9/
END:VEVENT
BEGIN:VEVENT
DTSTART;TZID=Europe/Berlin:20261015T193000
DTEND;TZID=Europe/Berlin:20261015T193000
DTSTAMP:20260422T155917
CREATED:20260125T104254Z
LAST-MODIFIED:20260125T195121Z
UID:11137-1792092600-1792092600@www.altdorf-pfalz.de
SUMMARY:Brettspieltreff
DESCRIPTION:
URL:https://www.altdorf-pfalz.de/event/brettspieltreff-9/
LOCATION:Gäuhalle
END:VEVENT
BEGIN:VEVENT
DTSTART;TZID=Europe/Berlin:20261018T000000
DTEND;TZID=Europe/Berlin:20261018T000000
DTSTAMP:20260422T155917
CREATED:20260125T104254Z
LAST-MODIFIED:20260125T195121Z
UID:11138-1792281600-1792281600@www.altdorf-pfalz.de
SUMMARY:Wanderung
DESCRIPTION:
URL:https://www.altdorf-pfalz.de/event/wanderung-10/
LOCATION:ab Sportheim
END:VEVENT
BEGIN:VEVENT
DTSTART;TZID=Europe/Berlin:20261022T190000
DTEND;TZID=Europe/Berlin:20261022T190000
DTSTAMP:20260422T155917
CREATED:20260125T104255Z
LAST-MODIFIED:20260125T195121Z
UID:11139-1792695600-1792695600@www.altdorf-pfalz.de
SUMMARY:Kreativkurs mit Holz
DESCRIPTION:
URL:https://www.altdorf-pfalz.de/event/kreativkurs-mit-holz-2/
LOCATION:Gäuhalle
END:VEVENT
BEGIN:VEVENT
DTSTART;TZID=Europe/Berlin:20261024T190000
DTEND;TZID=Europe/Berlin:20261024T190000
DTSTAMP:20260422T155917
CREATED:20260125T104255Z
LAST-MODIFIED:20260125T195135Z
UID:11140-1792868400-1792868400@www.altdorf-pfalz.de
SUMMARY:Konzert/Liederabend
DESCRIPTION:
URL:https://www.altdorf-pfalz.de/event/konzert-liederabend-2/
LOCATION:Gäuhalle
END:VEVENT
BEGIN:VEVENT
DTSTART;TZID=Europe/Berlin:20261028T110000
DTEND;TZID=Europe/Berlin:20261028T110000
DTSTAMP:20260422T155917
CREATED:20260125T104255Z
LAST-MODIFIED:20260125T195136Z
UID:11141-1793185200-1793185200@www.altdorf-pfalz.de
SUMMARY:Mittwochswanderungen (Senioren)
DESCRIPTION:
URL:https://www.altdorf-pfalz.de/event/mittwochswanderungen-senioren-11/
LOCATION:ab Sportheim
END:VEVENT
BEGIN:VEVENT
DTSTART;TZID=Europe/Berlin:20261031T110000
DTEND;TZID=Europe/Berlin:20261031T110000
DTSTAMP:20260422T155917
CREATED:20260125T104309Z
LAST-MODIFIED:20260125T195136Z
UID:11142-1793444400-1793444400@www.altdorf-pfalz.de
SUMMARY:Schlachtfest
DESCRIPTION:
URL:https://www.altdorf-pfalz.de/event/schlachtfest/
LOCATION:Sportheim
END:VEVENT
BEGIN:VEVENT
DTSTART;TZID=Europe/Berlin:20261103T200000
DTEND;TZID=Europe/Berlin:20261103T200000
DTSTAMP:20260422T155917
CREATED:20260125T104309Z
LAST-MODIFIED:20260125T195136Z
UID:11143-1793736000-1793736000@www.altdorf-pfalz.de
SUMMARY:Terminfestlegung 2027
DESCRIPTION:
URL:https://www.altdorf-pfalz.de/event/terminfestlegung-2027-2/
LOCATION:Gäuhalle
END:VEVENT
BEGIN:VEVENT
DTSTART;TZID=Europe/Berlin:20261105T193000
DTEND;TZID=Europe/Berlin:20261105T193000
DTSTAMP:20260422T155917
CREATED:20260125T104309Z
LAST-MODIFIED:20260125T195136Z
UID:11144-1793907000-1793907000@www.altdorf-pfalz.de
SUMMARY:Rollenspieltreff
DESCRIPTION:
URL:https://www.altdorf-pfalz.de/event/rollenspieltreff-10/
LOCATION:Gäuhalle
END:VEVENT
BEGIN:VEVENT
DTSTART;TZID=Europe/Berlin:20261107T000000
DTEND;TZID=Europe/Berlin:20261107T000000
DTSTAMP:20260422T155917
CREATED:20260125T104310Z
LAST-MODIFIED:20260125T195150Z
UID:11145-1794009600-1794009600@www.altdorf-pfalz.de
SUMMARY:Konzert
DESCRIPTION:
URL:https://www.altdorf-pfalz.de/event/konzert-4/
LOCATION:Kirche
END:VEVENT
BEGIN:VEVENT
DTSTART;TZID=Europe/Berlin:20261108T140000
DTEND;TZID=Europe/Berlin:20261108T140000
DTSTAMP:20260422T155917
CREATED:20260125T195151Z
LAST-MODIFIED:20260125T195151Z
UID:11288-1794146400-1794146400@www.altdorf-pfalz.de
SUMMARY:Brettspieltag
DESCRIPTION:
URL:https://www.altdorf-pfalz.de/event/brettspieltag-2/
LOCATION:Gäuhalle
END:VEVENT
BEGIN:VEVENT
DTSTART;TZID=Europe/Berlin:20261108T140000
DTEND;TZID=Europe/Berlin:20261108T190000
DTSTAMP:20260422T155917
CREATED:20260125T085117Z
LAST-MODIFIED:20260125T125746Z
UID:10823-1794146400-1794164400@www.altdorf-pfalz.de
SUMMARY:Brettspieltag
DESCRIPTION:
URL:https://www.altdorf-pfalz.de/event/brettspieltag/
LOCATION:Gäuhalle
END:VEVENT
BEGIN:VEVENT
DTSTART;TZID=Europe/Berlin:20261111T000000
DTEND;TZID=Europe/Berlin:20261111T000000
DTSTAMP:20260422T155917
CREATED:20260125T104324Z
LAST-MODIFIED:20260125T195151Z
UID:11147-1794355200-1794355200@www.altdorf-pfalz.de
SUMMARY:St. Martinsfest
DESCRIPTION:
URL:https://www.altdorf-pfalz.de/event/st-martinsfest-2/
LOCATION:Gäuhalle
END:VEVENT
BEGIN:VEVENT
DTSTART;TZID=Europe/Berlin:20261111T100000
DTEND;TZID=Europe/Berlin:20261111T100000
DTSTAMP:20260422T155917
CREATED:20260125T104324Z
LAST-MODIFIED:20260125T195151Z
UID:11146-1794391200-1794391200@www.altdorf-pfalz.de
SUMMARY:Mittwochswanderung (Aktiv)
DESCRIPTION:
URL:https://www.altdorf-pfalz.de/event/mittwochswanderung-aktiv-10/
END:VEVENT
BEGIN:VEVENT
DTSTART;TZID=Europe/Berlin:20261112T193000
DTEND;TZID=Europe/Berlin:20261112T193000
DTSTAMP:20260422T155917
CREATED:20260125T104325Z
LAST-MODIFIED:20260125T195151Z
UID:11148-1794511800-1794511800@www.altdorf-pfalz.de
SUMMARY:Abendlese
DESCRIPTION:
URL:https://www.altdorf-pfalz.de/event/abendlese-2/
LOCATION:Gäuhalle
END:VEVENT
BEGIN:VEVENT
DTSTART;TZID=Europe/Berlin:20261115T000000
DTEND;TZID=Europe/Berlin:20261115T000000
DTSTAMP:20260422T155917
CREATED:20260125T104339Z
LAST-MODIFIED:20260125T195206Z
UID:11151-1794700800-1794700800@www.altdorf-pfalz.de
SUMMARY:Wanderung
DESCRIPTION:
URL:https://www.altdorf-pfalz.de/event/wanderung-15/
LOCATION:ab Sportheim
END:VEVENT
BEGIN:VEVENT
DTSTART;TZID=Europe/Berlin:20261115T110000
DTEND;TZID=Europe/Berlin:20261115T110000
DTSTAMP:20260422T155917
CREATED:20260125T104325Z
LAST-MODIFIED:20260125T195206Z
UID:11149-1794740400-1794740400@www.altdorf-pfalz.de
SUMMARY:Volkstrauertag
DESCRIPTION:
URL:https://www.altdorf-pfalz.de/event/volkstrauertag/
LOCATION:Friedhof
END:VEVENT
BEGIN:VEVENT
DTSTART;TZID=Europe/Berlin:20261115T140000
DTEND;TZID=Europe/Berlin:20261115T140000
DTSTAMP:20260422T155917
CREATED:20260125T104325Z
LAST-MODIFIED:20260125T195206Z
UID:11150-1794751200-1794751200@www.altdorf-pfalz.de
SUMMARY:Das große Weihnachtsbacken
DESCRIPTION:
URL:https://www.altdorf-pfalz.de/event/das-grosse-weihnachtsbacken/
LOCATION:Gäuhalle
END:VEVENT
BEGIN:VEVENT
DTSTART;TZID=Europe/Berlin:20261119T193000
DTEND;TZID=Europe/Berlin:20261119T193000
DTSTAMP:20260422T155917
CREATED:20260125T104339Z
LAST-MODIFIED:20260125T195206Z
UID:11152-1795116600-1795116600@www.altdorf-pfalz.de
SUMMARY:Brettspieltreff
DESCRIPTION:
URL:https://www.altdorf-pfalz.de/event/brettspieltreff-10/
LOCATION:Gäuhalle
END:VEVENT
BEGIN:VEVENT
DTSTART;TZID=Europe/Berlin:20261125T110000
DTEND;TZID=Europe/Berlin:20261125T110000
DTSTAMP:20260422T155917
CREATED:20260125T104339Z
LAST-MODIFIED:20260125T195206Z
UID:11153-1795604400-1795604400@www.altdorf-pfalz.de
SUMMARY:Mittwochswanderungen (Senioren)
DESCRIPTION:
URL:https://www.altdorf-pfalz.de/event/mittwochswanderungen-senioren-12/
LOCATION:ab Sportheim
END:VEVENT
BEGIN:VEVENT
DTSTART;TZID=Europe/Berlin:20261126T190000
DTEND;TZID=Europe/Berlin:20261126T190000
DTSTAMP:20260422T155917
CREATED:20260125T104340Z
LAST-MODIFIED:20260125T195221Z
UID:11154-1795719600-1795719600@www.altdorf-pfalz.de
SUMMARY:Kochkurs Honig
DESCRIPTION:
URL:https://www.altdorf-pfalz.de/event/kochkurs-honig-2/
LOCATION:Gäuhalle
END:VEVENT
BEGIN:VEVENT
DTSTART;TZID=Europe/Berlin:20261202T100000
DTEND;TZID=Europe/Berlin:20261202T100000
DTSTAMP:20260422T155917
CREATED:20260125T104340Z
LAST-MODIFIED:20260125T195221Z
UID:11155-1796205600-1796205600@www.altdorf-pfalz.de
SUMMARY:Mittwochswanderung (Aktiv)
DESCRIPTION:
URL:https://www.altdorf-pfalz.de/event/mittwochswanderung-aktiv-11/
END:VEVENT
BEGIN:VEVENT
DTSTART;TZID=Europe/Berlin:20261203T193000
DTEND;TZID=Europe/Berlin:20261203T193000
DTSTAMP:20260422T155917
CREATED:20260125T104354Z
LAST-MODIFIED:20260125T195221Z
UID:11156-1796326200-1796326200@www.altdorf-pfalz.de
SUMMARY:Rollenspieltreff
DESCRIPTION:
URL:https://www.altdorf-pfalz.de/event/rollenspieltreff-11/
LOCATION:Gäuhalle
END:VEVENT
BEGIN:VEVENT
DTSTART;VALUE=DATE:20261205
DTEND;VALUE=DATE:20261207
DTSTAMP:20260422T155917
CREATED:20260125T201253Z
LAST-MODIFIED:20260125T201253Z
UID:11326-1796428800-1796601599@www.altdorf-pfalz.de
SUMMARY:Adventsmarkt in Altdorf
DESCRIPTION:
URL:https://www.altdorf-pfalz.de/event/adventsmarkt-in-altdorf/
LOCATION:Gäuhalle
END:VEVENT
BEGIN:VEVENT
DTSTART;TZID=Europe/Berlin:20261206T000000
DTEND;TZID=Europe/Berlin:20261206T000000
DTSTAMP:20260422T155917
CREATED:20260125T104354Z
LAST-MODIFIED:20260125T195221Z
UID:11157-1796515200-1796515200@www.altdorf-pfalz.de
SUMMARY:Glühwein-Wanderung
DESCRIPTION:
URL:https://www.altdorf-pfalz.de/event/gluehwein-wanderung/
END:VEVENT
BEGIN:VEVENT
DTSTART;TZID=Europe/Berlin:20261207T193000
DTEND;TZID=Europe/Berlin:20261207T193000
DTSTAMP:20260422T155917
CREATED:20260125T104354Z
LAST-MODIFIED:20260125T195221Z
UID:11158-1796671800-1796671800@www.altdorf-pfalz.de
SUMMARY:Singstundenabschluss
DESCRIPTION:
URL:https://www.altdorf-pfalz.de/event/singstundenabschluss-2/
LOCATION:Gäuhalle
END:VEVENT
BEGIN:VEVENT
DTSTART;TZID=Europe/Berlin:20261210T180000
DTEND;TZID=Europe/Berlin:20261210T180000
DTSTAMP:20260422T155917
CREATED:20260125T104355Z
LAST-MODIFIED:20260125T195236Z
UID:11159-1796925600-1796925600@www.altdorf-pfalz.de
SUMMARY:Adventsfenster
DESCRIPTION:
URL:https://www.altdorf-pfalz.de/event/adventsfenster/
END:VEVENT
BEGIN:VEVENT
DTSTART;TZID=Europe/Berlin:20261212T140000
DTEND;TZID=Europe/Berlin:20261212T140000
DTSTAMP:20260422T155917
CREATED:20260125T104355Z
LAST-MODIFIED:20260125T195236Z
UID:11160-1797084000-1797084000@www.altdorf-pfalz.de
SUMMARY:Seniorennachmittag mit MGV
DESCRIPTION:
URL:https://www.altdorf-pfalz.de/event/seniorennachmittag-mit-mgv-2/
LOCATION:Gäuhalle
END:VEVENT
BEGIN:VEVENT
DTSTART;TZID=Europe/Berlin:20261213T000000
DTEND;TZID=Europe/Berlin:20261213T000000
DTSTAMP:20260422T155917
CREATED:20260125T104409Z
LAST-MODIFIED:20260125T195236Z
UID:11161-1797120000-1797120000@www.altdorf-pfalz.de
SUMMARY:Adventsmusik im Dorf
DESCRIPTION:
URL:https://www.altdorf-pfalz.de/event/adventsmusik-im-dorf-2/
LOCATION:Altdorf
END:VEVENT
END:VCALENDAR