BEGIN:VCALENDAR
VERSION:2.0
PRODID:-//Altdorf in der Pfalz - ECPv6.15.20//NONSGML v1.0//EN
CALSCALE:GREGORIAN
METHOD:PUBLISH
X-ORIGINAL-URL:https://www.altdorf-pfalz.de
X-WR-CALDESC:Veranstaltungen für Altdorf in der Pfalz
REFRESH-INTERVAL;VALUE=DURATION:PT1H
X-Robots-Tag:noindex
X-PUBLISHED-TTL:PT1H
BEGIN:VTIMEZONE
TZID:Europe/Berlin
BEGIN:DAYLIGHT
TZOFFSETFROM:+0100
TZOFFSETTO:+0200
TZNAME:CEST
DTSTART:20250330T010000
END:DAYLIGHT
BEGIN:STANDARD
TZOFFSETFROM:+0200
TZOFFSETTO:+0100
TZNAME:CET
DTSTART:20251026T010000
END:STANDARD
BEGIN:DAYLIGHT
TZOFFSETFROM:+0100
TZOFFSETTO:+0200
TZNAME:CEST
DTSTART:20260329T010000
END:DAYLIGHT
BEGIN:STANDARD
TZOFFSETFROM:+0200
TZOFFSETTO:+0100
TZNAME:CET
DTSTART:20261025T010000
END:STANDARD
BEGIN:DAYLIGHT
TZOFFSETFROM:+0100
TZOFFSETTO:+0200
TZNAME:CEST
DTSTART:20270328T010000
END:DAYLIGHT
BEGIN:STANDARD
TZOFFSETFROM:+0200
TZOFFSETTO:+0100
TZNAME:CET
DTSTART:20271031T010000
END:STANDARD
END:VTIMEZONE
BEGIN:VEVENT
DTSTART;VALUE=DATE:20260424
DTEND;VALUE=DATE:20260427
DTSTAMP:20260422T114846
CREATED:20260125T200751Z
LAST-MODIFIED:20260420T174315Z
UID:11316-1776988800-1777247999@www.altdorf-pfalz.de
SUMMARY:Wanderwochenende Donnersberg - PWV Altdorf-Böbingen
DESCRIPTION:
URL:https://www.altdorf-pfalz.de/event/wanderwochenende-donnersberg-2/
END:VEVENT
BEGIN:VEVENT
DTSTART;TZID=Europe/Berlin:20260424T190000
DTEND;TZID=Europe/Berlin:20260424T210000
DTSTAMP:20260422T114846
CREATED:20260420T083603Z
LAST-MODIFIED:20260420T085312Z
UID:11600-1777057200-1777064400@www.altdorf-pfalz.de
SUMMARY:Infoveranstaltung der Landfrauen - Förderverein First Responder
DESCRIPTION:Infoveranstaltung zum Förderverein First Responder
URL:https://www.altdorf-pfalz.de/event/infoveranstaltung-der-landfrauen-foerderverein-first-responder/
LOCATION:Gäuhalle
END:VEVENT
END:VCALENDAR