BEGIN:VCALENDAR
VERSION:2.0
PRODID:-//Altdorf in der Pfalz - ECPv6.15.20//NONSGML v1.0//EN
CALSCALE:GREGORIAN
METHOD:PUBLISH
X-ORIGINAL-URL:https://www.altdorf-pfalz.de
X-WR-CALDESC:Veranstaltungen für Altdorf in der Pfalz
REFRESH-INTERVAL;VALUE=DURATION:PT1H
X-Robots-Tag:noindex
X-PUBLISHED-TTL:PT1H
BEGIN:VTIMEZONE
TZID:Europe/Berlin
BEGIN:DAYLIGHT
TZOFFSETFROM:+0100
TZOFFSETTO:+0200
TZNAME:CEST
DTSTART:20250330T010000
END:DAYLIGHT
BEGIN:STANDARD
TZOFFSETFROM:+0200
TZOFFSETTO:+0100
TZNAME:CET
DTSTART:20251026T010000
END:STANDARD
BEGIN:DAYLIGHT
TZOFFSETFROM:+0100
TZOFFSETTO:+0200
TZNAME:CEST
DTSTART:20260329T010000
END:DAYLIGHT
BEGIN:STANDARD
TZOFFSETFROM:+0200
TZOFFSETTO:+0100
TZNAME:CET
DTSTART:20261025T010000
END:STANDARD
BEGIN:DAYLIGHT
TZOFFSETFROM:+0100
TZOFFSETTO:+0200
TZNAME:CEST
DTSTART:20270328T010000
END:DAYLIGHT
BEGIN:STANDARD
TZOFFSETFROM:+0200
TZOFFSETTO:+0100
TZNAME:CET
DTSTART:20271031T010000
END:STANDARD
END:VTIMEZONE
BEGIN:VEVENT
DTSTART;TZID=Europe/Berlin:20260403T110000
DTEND;TZID=Europe/Berlin:20260403T110000
DTSTAMP:20260422T101831
CREATED:20260125T194736Z
LAST-MODIFIED:20260125T194736Z
UID:11205-1775214000-1775214000@www.altdorf-pfalz.de
SUMMARY:Fischessen
DESCRIPTION:
URL:https://www.altdorf-pfalz.de/event/fischessen/
LOCATION:Sportheim
END:VEVENT
BEGIN:VEVENT
DTSTART;TZID=Europe/Berlin:20260403T110000
DTEND;TZID=Europe/Berlin:20260403T133000
DTSTAMP:20260422T101831
CREATED:20260125T084646Z
LAST-MODIFIED:20260125T125946Z
UID:10755-1775214000-1775223000@www.altdorf-pfalz.de
SUMMARY:Fischessen
DESCRIPTION:
URL:https://www.altdorf-pfalz.de/event/fischessen-2/
LOCATION:Sportheim
END:VEVENT
END:VCALENDAR